Workbook

Sheet Patients
A2: Âge | B2: Scolarité | C2: DO-80 | K2: MEC/Évocation | BA2: MT-86 | CC2: Token Test | CF2: PPTT | DC2: BNT | DK2: WAB | DL2: WAB | DM2: BDAE
C3: Dénomination | K3: Libre | Y3: Orthographique | AM3: Sémantique | BA3: Répétition /30 | BO3: Compréhension /47 | CC3: Compréhemsion /36 | CF3: Image-Images | DC3: Dénomination | DK3: Degré de sévérité | DL3: Type d'aphasie | DM3: Degré de sévérité
C4: Score | D4: Moyenne selon l'âge et la scolarité | G4: Écart-type selon l'âge et la scolarité | J4: Score calibré | K4: Score | L4: Moyenne | R4: Écart-type | X4: Score calibré | Y4: Score | Z4: Moyenne | AF4: Écart-type | AL4: Score calibré | AM4: Score | AN4: Moyenne | AT4: Écart-type | AZ4: Score calibré | BA4: Score | BB4: Moyenne | BH4: Écart-type | BN4: Score calibré | BO4: Score | BP4: Moyenne | BV4: Écart-type | CB4: Score calibré | CC4: Score | CE4: Atteinte | CF4: Score /52 | CG4: Score /49 exclant les items 12, 16 et 40 | CH4: Moyenne | CR4: Écart-type | DB4: Score calibré selon normes excluant items 12, 16 et 40 | DC4: Score | DD4: Moyenne selon l'âge et la scolarité | DG4: Écart-type selon l'âge et la scolarité | DJ4: Score calibré
D5: =IF((A5<=59),E5,F5) -> 77 | E5: =IF(B5<=9,Normes!$J$27,Normes!$K$27) -> 77 | F5: =IF(B5<=9,Normes!$L$27,Normes!$M$27) -> 74.6 | G5: =IF((A5<=59),H5,I5) -> 3.4 | H5: =IF(B5<=9,Normes!$J$28,Normes!$K$28) -> 3.4 | I5: =IF(B5<=9,Normes!$L$28,Normes!$M$28) -> 4.8 | J5: =(C5-D5)/G5 -> -22.647059 | L5: =IF((A5<=49),M5,N5) -> 60.1 | M5: =IF(B5<=11,Normes!$B$4,Normes!$C$4) -> 60.1 | N5: =IF((A5<=64),O5,P5) -> 56.53 | O5: =IF(B5<=11,Normes!$D$4,Normes!$E$4) -> 56.53 | P5: =IF((A5<=85),Q5,"0") -> 45.63 | Q5: =IF(B5<=9,Normes!$F$4,Normes!$G$4) -> 45.63 | R5: =IF((A5<=49),S5,T5) -> 18.46 | S5: =IF(B5<=11,Normes!$B$5,Normes!$C$5) -> 18.46 | T5: =IF((A5<=64),U5,V5) -> 18.5 | U5: =IF(B5<=11,Normes!$D$5,Normes!$E$5) -> 18.5 | V5: =IF((A5<=85),W5,"0") -> 13.28 | W5: =IF(B5<=9,Normes!$F$5,Normes!$G$5) -> 13.28 | X5: =(K5-L5)/R5 -> -3.255688 | Z5: =IF((A5<=49),AA5,AB5) -> 23.17 | AA5: =IF($B5<=11,Normes!$B$11,Normes!$C$11) -> 23.17 | AB5: =IF(($A5<=64),AC5,AD5) -> 21.83 | AC5: =IF($B5<=11,Normes!$D$11,Normes!$E$11) -> 21.83 | AD5: =IF(($A5<=85),AE5,"0") -> 18 | AE5: =IF($B5<=9,Normes!$F$11,Normes!$G$11) -> 18 | AF5: =IF(($A5<=49),AG5,AH5) -> 6.76 | AG5: =IF($B5<=11,Normes!$B$12,Normes!$C$12) -> 6.76 | AH5: =IF(($A5<=64),AI5,AJ5) -> 7.77 | AI5: =IF($B5<=11,Normes!$D$12,Normes!$E$12) -> 7.77 | AJ5: =IF(($A5<=85),AK5,"0") -> 6.16 | AK5: =IF($B5<=9,Normes!$F$12,Normes!$G$12) -> 6.16 | AL5: =(Y5-Z5)/AF5 -> -3.4275148 | AN5: =IF(($A5<=49),AO5,AP5) -> 25.2 | AO5: =IF($B5<=11,Normes!$B$19,Normes!$C$19) -> 25.2 | AP5: =IF(($A5<=64),AQ5,AR5) -> 24.2 | AQ5: =IF($B5<=11,Normes!$D$19,Normes!$E$19) -> 24.2 | AR5: =IF(($A5<=85),AS5,"0") -> 21.37 | AS5: =IF($B5<=9,Normes!$F$19,Normes!$G$19) -> 21.37 | AT5: =IF(($A5<=49),AU5,AV5) -> 7.12 | AU5: =IF($B5<=11,Normes!$B$20,Normes!$C$20) -> 7.12 | AV5: =IF(($A5<=64),AW5,AX5) -> 7.44 | AW5: =IF($B5<=11,Normes!$D$20,Normes!$E$20) -> 7.44 | AX5: =IF(($A5<=85),AY5,"0") -> 6.44 | AY5: =IF($B5<=9,Normes!$F$20,Normes!$G$20) -> 6.44 | AZ5: =(AM5-AN5)/AT5 -> -3.5393258 | BB5: =IF(($A5<=49),BC5,BD5) -> 29.2 | BC5: =IF($B5<=9,Normes!$B$26,Normes!$C$26) -> 29.2 | BD5: =IF(($A5<=69),BE5,BF5) -> 28.5 | BE5: =IF($B5<=9,Normes!$D$26,Normes!$E$26) -> 28.5 | BF5: =IF(($A5<=87),BG5,"0") -> 27.6 | BG5: =IF($B5<=9,Normes!$F$26,Normes!$G$26) -> 27.6 | BH5: =IF(($A5<=49),BI5,BJ5) -> 0.755 | BI5: =IF($B5<=9,Normes!$B$27,Normes!$C$27) -> 0.755 | BJ5: =IF(($A5<=69),BK5,BL5) -> 0.364 | BK5: =IF($B5<=9,Normes!$D$27,Normes!$E$27) -> 0.364 | BL5: =IF(($A5<=87),BM5,"0") -> 0.466 | BM5: =IF($B5<=9,Normes!$F$27,Normes!$G$27) -> 0.466 | BN5: =(BA5-BB5)/BH5 -> -38.675497 | BP5: =IF(($A5<=49),BQ5,BR5) -> 44.4 | BQ5: =IF($B5<=9,Normes!$B$33,Normes!$C$33) -> 44.4 | BR5: =IF(($A5<=69),BS5,BT5) -> 44.6 | BS5: =IF($B5<=9,Normes!$D$33,Normes!$E$33) -> 44.6 | BT5: =IF(($A5<=87),BU5,"0") -> 42.4 | BU5: =IF($B5<=9,Normes!$F$33,Normes!$G$33) -> 42.4 | BV5: =IF(($A5<=49),BW5,BX5) -> 2.14 | BW5: =IF($B5<=9,Normes!$B$34,Normes!$C$34) -> 2.14 | BX5: =IF(($A5<=69),BY5,BZ5) -> 1.99 | BY5: =IF($B5<=9,Normes!$D$34,Normes!$E$34) -> 1.99 | BZ5: =IF(($A5<=87),CA5,"0") -> 3.13 | CA5: =IF($B5<=9,Normes!$F$34,Normes!$G$34) -> 3.13 | CB5: =(BO5-BP5)/BV5 -> -20.747664 | CD5: =IF($B5<=9,($CC5+Normes!$L$4),IF($B5<=12,($CC5+Normes!$L$5),IF($B5<=16,($CC5+Normes!$L$6),IF($A5<=17,($CC5+Normes!$L$7))))) -> 1 | CE5: =IF($CD5<=8,Normes!$L$14,IF($CD5<=16,Normes!$L$13,IF($CD5<=24,Normes!$L$12,IF($CD5<=28,Normes!$L$11,IF($CD5>=29,Normes!$L$10))))) -> très sévère | CH5: =IF(($A5<=39),CI5,CJ5) -> 48 | CI5: =IF($B5<=12,Normes!$B$41,Normes!$C$41) -> 48 | CJ5: =IF(($A5<=49),CK5,CL5) -> 47.17 | CK5: =IF($B5<=12,Normes!$D$41,Normes!$E$41) -> 47.17 | CL5: =IF(($A5<=59),CM5,CN5) -> 48.25 | CM5: =IF($B5<=12,Normes!$F$41,Normes!$G$41) -> 48.25 | CN5: =IF(($A5<=69),CO5,CQ5) -> 47.25 | CO5: =IF($B5<=12,Normes!$H$41,Normes!$I$41) -> 47.25 | CP5: =IF(($A5>70),CQ5,0) -> 0 | CQ5: =IF($B5<=12,Normes!$J$41,Normes!$K$41) -> 46.84 | CR5: =IF(($A5<=39),CS5,CT5) -> 0.75 | CS5: =IF($B5<=12,Normes!$B$42,Normes!$C$42) -> 0.75 | CT5: =IF(($A5<=49),CU5,CV5) -> 1.47 | CU5: =IF($B5<=12,Normes!$D$42,Normes!$E$42) -> 1.47 | CV5: =IF(($A5<=59),CW5,CX5) -> 0.93 | CW5: =IF($B5<=12,Normes!$F$42,Normes!$G$42) -> 0.93 | CX5: =IF(($A5<=69),CY5,DA5) -> 1.77 | CY5: =IF($B5<=12,Normes!$H$42,Normes!$I$42) -> 1.77 | CZ5: =IF(($A5>70),DA5,0) -> 0 | DA5: =IF($B5<=12,Normes!$J$42,Normes!$K$42) -> 1.96 | DB5: =(CG5-CH5)/CR5 -> -64 | DD5: =IF(($A5<=64),DE5,DF5) -> 43.9 | DE5: =IF($B5<=9,Normes!$J$20,Normes!$K$20) -> 43.9 | DF5: =IF($B5<=9,Normes!$L$20,Normes!$M$20) -> 37.6 | DG5: =IF(($A5<=64),DH5,DI5) -> 6.05 | DH5: =IF($B5<=9,Normes!$J$21,Normes!$K$21) -> 6.05 | DI5: =IF($B5<=9,Normes!$L$21,Normes!$M$21) -> 8.13 | DJ5: =(DC5-DD5)/DG5 -> -7.2561983

Sheet Normes
A1: Évocation lexicale libre (MEC) | I1: Normes Token Test
B2: 30-49 ans | D2: 50-64 ans | F2: 65-85 ans | I2: 1- Pondération des scores pour contrôler l'effet de la scolarité
A3: Scolarité | B3: ≤ 11 | C3: > 11 | D3: ≤ 11 | E3: > 11 | F3: ≤ 9 | G3: > 9 | I3: Scolarité | L3: Recommandation
A4: Moyenne | B4: 60.1 | C4: 77.57 | D4: 56.53 | E4: 69.63 | F4: 45.63 | G4: 63.63 | I4: 3-6 ans | L4: 1
A5: Écart-Type | B5: 18.46 | C5: 18.57 | D5: 18.5 | E5: 18.41 | F5: 13.28 | G5: 16.26 | I5: 10-12 ans | L5: -1
I6: 13-16 ans | L6: -2
I7: 17 ans et + | L7: -3
A8: Évocation lexicale orthographique (MEC) | I8: 2- Sévérité des troubles selon le score pondéré
B9: 30-49 ans | D9: 50-64 ans | F9: 65-85 ans | I9: Score pondéré | L9: Atteinte
A10: Scolarité | B10: ≤ 11 | C10: > 11 | D10: ≤ 11 | E10: > 11 | F10: ≤ 9 | G10: > 9 | I10: 29 à 36 | L10: aucune
A11: Moyenne | B11: 23.17 | C11: 30.63 | D11: 21.83 | E11: 28.57 | F11: 18 | G11: 28.17 | I11: 25 à 28 | L11: légère
A12: Écart-Type | B12: 6.76 | C12: 7.22 | D12: 7.77 | E12: 7.54 | F12: 6.16 | G12: 7.87 | I12: 17 à 24 | L12: modérée
I13: 9 à 16 | L13: sévère
I14: 0 à 8 | L14: très sévère
A16: Évocation lexicale sémantique (MEC)
B17: 30-49 ans | D17: 50-64 ans | F17: 65-85 ans | I17: Normes BNT (Dialecte)
A18: Scolarité | B18: ≤ 11 | C18: > 11 | D18: ≤ 11 | E18: > 11 | F18: ≤ 9 | G18: > 9 | J18: 50-64 ans | L18: 64-79 ans
A19: Moyenne | B19: 25.2 | C19: 29.97 | D19: 24.2 | E19: 28.4 | F19: 21.37 | G19: 26.87 | I19: Scolarité | J19: ≤ 9 | K19: > 9 | L19: ≤ 9 | M19: > 9
A20: Écart-Type | B20: 7.12 | C20: 5.92 | D20: 7.44 | E20: 6.27 | F20: 6.44 | G20: 7.01 | I20: Moyenne | J20: 43.9 | K20: 43.54 | L20: 37.6 | M20: 44.2
I21: Écart-Type | J21: 6.05 | K21: 4.03 | L21: 8.13 | M21: 6.28
A23: Répétition (MT-86)
B24: 19-49 ans | D24: 50-69 ans | F24: 70-87 ans | I24: Normes DO-80 (cotation stricte)
A25: Scolarité | B25: ≤ 9 | C25: > 9 | D25: ≤ 9 | E25: > 9 | F25: ≤ 9 | G25: > 9 | J25: 20-59 ans | L25: 60-75 ans
A26: Moyenne | B26: 29.2 | C26: 29.5 | D26: 28.5 | E26: 28.8 | F26: 27.6 | G26: 28.7 | I26: Scolarité | J26: ≤ 9 | K26: > 9 | L26: ≤ 9 | M26: > 9
A27: Écart-Type | B27: 0.755 | C27: 0.665 | D27: 0.364 | E27: 0.185 | F27: 0.466 | G27: 0.266 | I27: Moyenne | J27: 77 | K27: 78.4 | L27: 74.6 | M27: 76.2
I28: Écart-Type | J28: 3.4 | K28: 2.3 | L28: 4.8 | M28: 3.3
A30: Compréhension orale (MT-86)
B31: 19-49 ans | D31: 50-69 ans | F31: 70-87 ans
A32: Scolarité | B32: ≤ 9 | C32: > 9 | D32: ≤ 9 | E32: > 9 | F32: ≤ 9 | G32: > 9
A33: Moyenne | B33: 44.4 | C33: 45.4 | D33: 44.6 | E33: 45.2 | F33: 42.4 | G33: 44.6
A34: Écart-Type | B34: 2.14 | C34: 1.85 | D34: 1.99 | E34: 2.02 | F34: 3.13 | G34: 2.19
A38: Normes PPTT en excluant items 12, 16, 40
B39: 19-39 ans | D39: 40-49 ans | F39: 50-59 | H39: 60-69 ans | J39: 70 ans et plus
A40: Scolarité | B40: 0-12 ans | C40: ≥ 13 ans | D40: 0-12 ans | E40: ≥ 13 ans | F40: 0-12 ans | G40: ≥ 13 ans | H40: 0-12 ans | I40: ≥ 13 ans | J40: 0-12 ans | K40: ≥ 13 ans
A41: Moyenne | B41: 48 | C41: 47.72 | D41: 47.17 | E41: 47.64 | F41: 48.25 | G41: 47.44 | H41: 47.25 | I41: 47.43 | J41: 46.84 | K41: 47.12
A42: Écart-Type | B42: 0.75 | C42: 1.88 | D42: 1.47 | E42: 1.29 | F42: 0.93 | G42: 1.62 | H42: 1.77 | I42: 2.1 | J42: 1.96 | K42: 1.69
